BEGIN:VCALENDAR
VERSION:2.0
PRODID:icalendar-ruby
CALSCALE:GREGORIAN
METHOD:PUBLISH
BEGIN:VTIMEZONE
TZID:Australia/Melbourne
BEGIN:DAYLIGHT
DTSTART:20261004T030000
TZOFFSETFROM:+1000
TZOFFSETTO:+1100
RRULE:FREQ=YEARLY;BYDAY=1SU;BYMONTH=10
TZNAME:AEDT
END:DAYLIGHT
BEGIN:STANDARD
DTSTART:20260405T020000
TZOFFSETFROM:+1100
TZOFFSETTO:+1000
RRULE:FREQ=YEARLY;BYDAY=1SU;BYMONTH=4
TZNAME:AEST
END:STANDARD
END:VTIMEZONE
BEGIN:VEVENT
DTSTAMP:20260420T130837Z
UID:inspection_3004851
DTSTART;TZID=Australia/Melbourne:20260422T174500
DTEND;TZID=Australia/Melbourne:20260422T180000
CLASS:PUBLIC
CREATED:20260420T124619
DESCRIPTION: 
LAST-MODIFIED:20260420T124619
LOCATION:18 NEWFOUNDLAND CIRCUIT\, BONNIE BROOK VIC 3335\, Australia
SUMMARY:18 NEWFOUNDLAND CIRCUIT\,  Inspection
URL;VALUE=URI:http://www.westsiderealestate.com.au/
END:VEVENT
END:VCALENDAR
